BEGIN:VCALENDAR
PRODID:-//AT Content Types//AT Event//EN
VERSION:2.0
METHOD:PUBLISH
BEGIN:VEVENT
DTSTAMP:20260422T091710Z
CREATED:20100808T033034Z
UID:ATEvent-8a506c0983c3a173c79039e2d1fb5f1b
LAST-MODIFIED:20161217T215315Z
SUMMARY:Round 4
DTSTART:20170108T180000Z
DTEND:20170108T220000Z
DESCRIPTION:A round of the Summer Sprint Series!
LOCATION:Blackburn Velodrome
CATEGORIES:Sprint series round
CONTACT:Carl Brewer\, 0419 966 003\, carl@aboc.com.au
CLASS:PUBLIC
END:VEVENT
END:VCALENDAR
