BEGIN:VCALENDAR
PRODID:-//AT Content Types//AT Event//EN
VERSION:2.0
METHOD:PUBLISH
BEGIN:VEVENT
DTSTAMP:20260425T003428Z
CREATED:20100808T033034Z
UID:ATEvent-448e1cce06eb4d5d018265615550fec1
LAST-MODIFIED:20150621T062715Z
SUMMARY:Round 4
DTSTART:20160110T190000Z
DTEND:20160110T230000Z
DESCRIPTION:A round of the Summer Sprint Series!
LOCATION:Blackburn Velodrome
CATEGORIES:Sprint series round
CONTACT:Carl Brewer\, 0419 966 003\, carl@aboc.com.au
CLASS:PUBLIC
END:VEVENT
END:VCALENDAR
