BEGIN:VCALENDAR
PRODID:-//AT Content Types//AT Event//EN
VERSION:1.0
BEGIN:VEVENT
DTSTART:20151122T190000Z
DTEND:20151122T230000Z
DCREATED:20100808T033034Z
UID:ATEvent-96dbd09f2e8e469867290080398ee09c
SEQUENCE:0
LAST-MODIFIED:20150621T062409Z
SUMMARY:Round 2
DESCRIPTION:A round of the Summer Sprint Series!
LOCATION:Blackburn Velodrome
PRIORITY:3
TRANSP:0
END:VEVENT
END:VCALENDAR
