BEGIN:VCALENDAR
PRODID:-//AT Content Types//AT Event//EN
VERSION:2.0
METHOD:PUBLISH
BEGIN:VEVENT
DTSTAMP:20260422T115331Z
CREATED:20100808T033034Z
UID:ATEvent-96e9e70d8be44d19a734f1e794bb5b76
LAST-MODIFIED:20140104T103539Z
SUMMARY:Round 4
DTSTART:20140105T190000Z
DTEND:20140105T230000Z
DESCRIPTION:A round of the Summer Sprint Series!
LOCATION:Blackburn Velodrome
CATEGORIES:Sprint series round
CONTACT:Carl Brewer\, 0419 966 003\, carl@aboc.com.au
CLASS:PUBLIC
END:VEVENT
END:VCALENDAR
