BEGIN:VCALENDAR
PRODID:-//AT Content Types//AT Event//EN
VERSION:1.0
BEGIN:VEVENT
DTSTART:20131201T190000Z
DTEND:20131201T230000Z
DCREATED:20100808T033034Z
UID:ATEvent-36f6445e0b44c4b7ea6b3e3effcb1fe9
SEQUENCE:0
LAST-MODIFIED:20131129T011239Z
SUMMARY:Round 3
DESCRIPTION:A round of the Summer Sprint Series!
LOCATION:Blackburn Velodrome
PRIORITY:3
TRANSP:0
END:VEVENT
END:VCALENDAR
