BEGIN:VCALENDAR
PRODID:-//AT Content Types//AT Event//EN
VERSION:2.0
METHOD:PUBLISH
BEGIN:VEVENT
DTSTAMP:20260419T211339Z
CREATED:20100808T033034Z
UID:ATEvent-9a1f561f58c549bf1ab2ef04acf31869
LAST-MODIFIED:20121110T215022Z
SUMMARY:Round 2
DTSTART:20121111T190000Z
DTEND:20121111T230000Z
DESCRIPTION:A round of the Summer Sprint Series!
LOCATION:Blackburn Velodrome
CATEGORIES:Sprint series round
CONTACT:Carl Brewer\, 0419 966 003\, carl@aboc.com.au
CLASS:PUBLIC
END:VEVENT
END:VCALENDAR
