BEGIN:VCALENDAR
PRODID:-//AT Content Types//AT Event//EN
VERSION:2.0
METHOD:PUBLISH
BEGIN:VEVENT
DTSTAMP:20260420T084023Z
CREATED:20100808T033034Z
UID:ATEvent-912937e04da894c77986c3a7493bcc2c
LAST-MODIFIED:20101106T210938Z
SUMMARY:Round 2
DTSTART:20101107T173000Z
DTEND:20101107T223000Z
LOCATION:Blackburn Velodrome
CATEGORIES:Sprint series round
CONTACT:Carl Brewer\, 0419 966 003\, carl@aboc.com.au
CLASS:PUBLIC
END:VEVENT
END:VCALENDAR
