BEGIN:VCALENDAR
PRODID:-//AT Content Types//AT Event//EN
VERSION:1.0
BEGIN:VEVENT
DTSTART:20101010T163000Z
DTEND:20101010T213000Z
DCREATED:20100808T033034Z
UID:ATEvent-af2cef28f38e212a24fb7e8380b3a7e2
SEQUENCE:0
LAST-MODIFIED:20101009T074124Z
SUMMARY:Round 1
DESCRIPTION:Round one of the Summer Sprint Series!
LOCATION:Blackburn Velodrome
PRIORITY:3
TRANSP:0
END:VEVENT
END:VCALENDAR
