BEGIN:VCALENDAR
PRODID:-//AT Content Types//AT Event//EN
VERSION:2.0
METHOD:PUBLISH
BEGIN:VEVENT
DTSTAMP:20260424T102357Z
CREATED:20100830T011406Z
UID:ATEvent-ea98b933b1fb1052f542b4384f7121ea
LAST-MODIFIED:20100927T064403Z
SUMMARY:Practice Day
DTSTART:20101003T170000Z
DTEND:20101003T200000Z
DESCRIPTION:Just the BBQ ... and some practice
CATEGORIES:practice
CONTACT:Carl Brewer\, 0419 966 003\, carl@aboc.com.au
CLASS:PUBLIC
END:VEVENT
END:VCALENDAR
