BEGIN:VCALENDAR
PRODID:-//AT Content Types//AT Event//EN
VERSION:1.0
BEGIN:VEVENT
DTSTART:20100411T160000Z
DTEND:20100411T213000Z
DCREATED:20080528T003722Z
UID:ATEvent-d4c5bc5266bfbf19feed15a65175403d
SEQUENCE:0
LAST-MODIFIED:20100408T071422Z
SUMMARY:Round 6
DESCRIPTION:Round 6 of the 2009-2010 series
LOCATION:Blackburn Velodrome
PRIORITY:3
TRANSP:0
END:VEVENT
END:VCALENDAR
