BEGIN:VCALENDAR
PRODID:-//AT Content Types//AT Event//EN
VERSION:1.0
BEGIN:VEVENT
DTSTART:20091206T170000Z
DTEND:20091206T223000Z
DCREATED:20080528T003722Z
UID:ATEvent-1c831508e0fc104de2fa1537d3713cb9
SEQUENCE:0
LAST-MODIFIED:20091205T213705Z
SUMMARY:Round 3
DESCRIPTION:Round 3 of the 2009-2010 series
LOCATION:Blackburn Velodrome
PRIORITY:3
TRANSP:0
END:VEVENT
END:VCALENDAR
