BEGIN:VCALENDAR
PRODID:-//AT Content Types//AT Event//EN
VERSION:2.0
METHOD:PUBLISH
BEGIN:VEVENT
DTSTAMP:20260422T115353Z
CREATED:20080528T003722Z
UID:ATEvent-d0d68b7257ef68030964a3124587c836
LAST-MODIFIED:20090131T203433Z
SUMMARY:Round 4
DTSTART:20090201T170000Z
DTEND:20090201T223000Z
DESCRIPTION:Round 4 of the 2008-2009 series
LOCATION:Blackburn Velodrome
CATEGORIES:Sprint series round
CONTACT:Carl Brewer\, 0419 966 003\, carl@aboc.com.au
CLASS:PUBLIC
END:VEVENT
END:VCALENDAR
