BEGIN:VCALENDAR
PRODID:-//AT Content Types//AT Event//EN
VERSION:1.0
BEGIN:VEVENT
DTSTART:20070930T193000Z
DTEND:20070930T223000Z
DCREATED:20070926T011455Z
UID:ATEvent-fad5871a767ac1ba0613846ba869a679
SEQUENCE:0
LAST-MODIFIED:20070926T011537Z
SUMMARY:Dress Rehersal
DESCRIPTION:A last chance to sort things out before round 1
LOCATION:BBN Velodrome/clubrooms
PRIORITY:3
TRANSP:0
END:VEVENT
END:VCALENDAR
